BEGIN:VCALENDAR
VERSION:2.0
PRODID:-//Jerdacuttup Primary School - ECPv6.15.18//NONSGML v1.0//EN
CALSCALE:GREGORIAN
METHOD:PUBLISH
X-WR-CALNAME:Jerdacuttup Primary School
X-ORIGINAL-URL:https://jerdacuttupschool.wa.edu.au
X-WR-CALDESC:Events for Jerdacuttup Primary School
REFRESH-INTERVAL;VALUE=DURATION:PT1H
X-Robots-Tag:noindex
X-PUBLISHED-TTL:PT1H
BEGIN:VTIMEZONE
TZID:Australia/Perth
BEGIN:STANDARD
TZOFFSETFROM:+0800
TZOFFSETTO:+0800
TZNAME:AWST
DTSTART:20230101T000000
END:STANDARD
END:VTIMEZONE
BEGIN:VEVENT
DTSTART;VALUE=DATE:20241206
DTEND;VALUE=DATE:20241207
DTSTAMP:20260422T235645
CREATED:20240920T071320Z
LAST-MODIFIED:20240920T071320Z
UID:3330-1733443200-1733529599@jerdacuttupschool.wa.edu.au
SUMMARY:60th Anniversary Celebration and Prize Giving
DESCRIPTION:
URL:https://jerdacuttupschool.wa.edu.au/calendar/60th-anniversary-celebration-and-prize-giving/
CATEGORIES:School Events
END:VEVENT
BEGIN:VEVENT
DTSTART;VALUE=DATE:20241209
DTEND;VALUE=DATE:20241210
DTSTAMP:20260422T235645
CREATED:20240920T071344Z
LAST-MODIFIED:20240920T071344Z
UID:3332-1733702400-1733788799@jerdacuttupschool.wa.edu.au
SUMMARY:Reports sent home
DESCRIPTION:
URL:https://jerdacuttupschool.wa.edu.au/calendar/reports-sent-home/
CATEGORIES:School Events
END:VEVENT
BEGIN:VEVENT
DTSTART;TZID=Australia/Perth:20241210T160000
DTEND;TZID=Australia/Perth:20241210T170000
DTSTAMP:20260422T235646
CREATED:20240920T071425Z
LAST-MODIFIED:20240920T071425Z
UID:3334-1733846400-1733850000@jerdacuttupschool.wa.edu.au
SUMMARY:Liberty Arts Show Hopetoun
DESCRIPTION:
URL:https://jerdacuttupschool.wa.edu.au/calendar/liberty-arts-show-hopetoun/
CATEGORIES:School Events
END:VEVENT
BEGIN:VEVENT
DTSTART;VALUE=DATE:20241211
DTEND;VALUE=DATE:20241212
DTSTAMP:20260422T235646
CREATED:20240920T071443Z
LAST-MODIFIED:20240920T071443Z
UID:3336-1733875200-1733961599@jerdacuttupschool.wa.edu.au
SUMMARY:Beach Fun Day
DESCRIPTION:
URL:https://jerdacuttupschool.wa.edu.au/calendar/beach-fun-day/
CATEGORIES:School Events
END:VEVENT
BEGIN:VEVENT
DTSTART;VALUE=DATE:20241212
DTEND;VALUE=DATE:20241213
DTSTAMP:20260422T235646
CREATED:20240920T071510Z
LAST-MODIFIED:20240920T071510Z
UID:3338-1733961600-1734047999@jerdacuttupschool.wa.edu.au
SUMMARY:Last day of term 4
DESCRIPTION:
URL:https://jerdacuttupschool.wa.edu.au/calendar/last-day-of-term-4/
CATEGORIES:Term Dates
END:VEVENT
BEGIN:VEVENT
DTSTART;VALUE=DATE:20241213
DTEND;VALUE=DATE:20241214
DTSTAMP:20260422T235646
CREATED:20240920T071531Z
LAST-MODIFIED:20240920T071531Z
UID:3340-1734048000-1734134399@jerdacuttupschool.wa.edu.au
SUMMARY:Staff Development Day
DESCRIPTION:
URL:https://jerdacuttupschool.wa.edu.au/calendar/staff-development-day-2/
CATEGORIES:Staff Development Days
END:VEVENT
END:VCALENDAR