BEGIN:VCALENDAR
VERSION:2.0
PRODID:-//Jerdacuttup Primary School - ECPv6.15.18//NONSGML v1.0//EN
CALSCALE:GREGORIAN
METHOD:PUBLISH
X-WR-CALNAME:Jerdacuttup Primary School
X-ORIGINAL-URL:https://jerdacuttupschool.wa.edu.au
X-WR-CALDESC:Events for Jerdacuttup Primary School
REFRESH-INTERVAL;VALUE=DURATION:PT1H
X-Robots-Tag:noindex
X-PUBLISHED-TTL:PT1H
BEGIN:VTIMEZONE
TZID:Australia/Perth
BEGIN:STANDARD
TZOFFSETFROM:+0800
TZOFFSETTO:+0800
TZNAME:AWST
DTSTART:20230101T000000
END:STANDARD
END:VTIMEZONE
BEGIN:VEVENT
DTSTART;VALUE=DATE:20240921
DTEND;VALUE=DATE:20241008
DTSTAMP:20260421T071836
CREATED:20240920T073713Z
LAST-MODIFIED:20240920T073713Z
UID:3343-1726876800-1728345599@jerdacuttupschool.wa.edu.au
SUMMARY:Term three break
DESCRIPTION:
URL:https://jerdacuttupschool.wa.edu.au/calendar/term-three-break/
CATEGORIES:Term Break
END:VEVENT
BEGIN:VEVENT
DTSTART;VALUE=DATE:20241007
DTEND;VALUE=DATE:20241008
DTSTAMP:20260421T071836
CREATED:20240920T070643Z
LAST-MODIFIED:20240920T070643Z
UID:3304-1728259200-1728345599@jerdacuttupschool.wa.edu.au
SUMMARY:Development Day - Students do not attend school today
DESCRIPTION:
URL:https://jerdacuttupschool.wa.edu.au/calendar/development-day-students-do-not-attend-school-today/
CATEGORIES:Staff Development Days
END:VEVENT
BEGIN:VEVENT
DTSTART;TZID=Australia/Perth:20241008T084500
DTEND;TZID=Australia/Perth:20241008T150000
DTSTAMP:20260421T071836
CREATED:20240920T070721Z
LAST-MODIFIED:20240920T070721Z
UID:3306-1728377100-1728399600@jerdacuttupschool.wa.edu.au
SUMMARY:School recommences at 8:45 am
DESCRIPTION:
URL:https://jerdacuttupschool.wa.edu.au/calendar/school-recommences-at-845-am/
CATEGORIES:Term Dates
END:VEVENT
BEGIN:VEVENT
DTSTART;VALUE=DATE:20241009
DTEND;VALUE=DATE:20241010
DTSTAMP:20260421T071836
CREATED:20240920T070750Z
LAST-MODIFIED:20240920T070750Z
UID:3308-1728432000-1728518399@jerdacuttupschool.wa.edu.au
SUMMARY:P.A.T Testing
DESCRIPTION:
URL:https://jerdacuttupschool.wa.edu.au/calendar/p-a-t-testing/
CATEGORIES:School Events
END:VEVENT
BEGIN:VEVENT
DTSTART;VALUE=DATE:20241011
DTEND;VALUE=DATE:20241012
DTSTAMP:20260421T071836
CREATED:20240920T070808Z
LAST-MODIFIED:20240920T070808Z
UID:3310-1728604800-1728691199@jerdacuttupschool.wa.edu.au
SUMMARY:P.A.T Testing
DESCRIPTION:
URL:https://jerdacuttupschool.wa.edu.au/calendar/p-a-t-testing-2/
CATEGORIES:School Events
END:VEVENT
BEGIN:VEVENT
DTSTART;TZID=Australia/Perth:20241011T130000
DTEND;TZID=Australia/Perth:20241011T140000
DTSTAMP:20260421T071836
CREATED:20240920T070856Z
LAST-MODIFIED:20240920T070856Z
UID:3314-1728651600-1728655200@jerdacuttupschool.wa.edu.au
SUMMARY:Munglinup Cricket
DESCRIPTION:
URL:https://jerdacuttupschool.wa.edu.au/calendar/munglinup-cricket/
CATEGORIES:School Events
END:VEVENT
BEGIN:VEVENT
DTSTART;VALUE=DATE:20241014
DTEND;VALUE=DATE:20241015
DTSTAMP:20260421T071836
CREATED:20240920T070923Z
LAST-MODIFIED:20240920T070923Z
UID:3316-1728864000-1728950399@jerdacuttupschool.wa.edu.au
SUMMARY:P.A.T Testing
DESCRIPTION:
URL:https://jerdacuttupschool.wa.edu.au/calendar/p-a-t-testing-4/
CATEGORIES:School Events
END:VEVENT
BEGIN:VEVENT
DTSTART;VALUE=DATE:20241016
DTEND;VALUE=DATE:20241017
DTSTAMP:20260421T071836
CREATED:20240920T070823Z
LAST-MODIFIED:20240920T070823Z
UID:3312-1729036800-1729123199@jerdacuttupschool.wa.edu.au
SUMMARY:P.A.T Testing
DESCRIPTION:
URL:https://jerdacuttupschool.wa.edu.au/calendar/p-a-t-testing-3/
CATEGORIES:School Events
END:VEVENT
BEGIN:VEVENT
DTSTART;VALUE=DATE:20241017
DTEND;VALUE=DATE:20241019
DTSTAMP:20260421T071836
CREATED:20240920T070944Z
LAST-MODIFIED:20240920T070944Z
UID:3318-1729123200-1729295999@jerdacuttupschool.wa.edu.au
SUMMARY:Esperance Show
DESCRIPTION:
URL:https://jerdacuttupschool.wa.edu.au/calendar/esperance-show/
CATEGORIES:School Events
END:VEVENT
BEGIN:VEVENT
DTSTART;TZID=Australia/Perth:20241022T140000
DTEND;TZID=Australia/Perth:20241022T150000
DTSTAMP:20260421T071836
CREATED:20240920T071029Z
LAST-MODIFIED:20240920T071029Z
UID:3320-1729605600-1729609200@jerdacuttupschool.wa.edu.au
SUMMARY:P&C Meeting
DESCRIPTION:
URL:https://jerdacuttupschool.wa.edu.au/calendar/pc-meeting/
CATEGORIES:P&C and Council Meetings
END:VEVENT
BEGIN:VEVENT
DTSTART;VALUE=DATE:20241024
DTEND;VALUE=DATE:20241025
DTSTAMP:20260421T071836
CREATED:20240920T071053Z
LAST-MODIFIED:20240920T071053Z
UID:3322-1729728000-1729814399@jerdacuttupschool.wa.edu.au
SUMMARY:Tabel Games Dat
DESCRIPTION:
URL:https://jerdacuttupschool.wa.edu.au/calendar/tabel-games-dat/
CATEGORIES:School Events
END:VEVENT
BEGIN:VEVENT
DTSTART;VALUE=DATE:20241028
DTEND;VALUE=DATE:20241031
DTSTAMP:20260421T071836
CREATED:20240920T071120Z
LAST-MODIFIED:20240920T071120Z
UID:3324-1730073600-1730332799@jerdacuttupschool.wa.edu.au
SUMMARY:On-Entry Testing
DESCRIPTION:
URL:https://jerdacuttupschool.wa.edu.au/calendar/on-entry-testing/
CATEGORIES:School Events
END:VEVENT
END:VCALENDAR