BEGIN:VCALENDAR
VERSION:2.0
PRODID:-//Jerdacuttup Primary School - ECPv6.15.18//NONSGML v1.0//EN
CALSCALE:GREGORIAN
METHOD:PUBLISH
X-WR-CALNAME:Jerdacuttup Primary School
X-ORIGINAL-URL:https://jerdacuttupschool.wa.edu.au
X-WR-CALDESC:Events for Jerdacuttup Primary School
REFRESH-INTERVAL;VALUE=DURATION:PT1H
X-Robots-Tag:noindex
X-PUBLISHED-TTL:PT1H
BEGIN:VTIMEZONE
TZID:Australia/Perth
BEGIN:STANDARD
TZOFFSETFROM:+0800
TZOFFSETTO:+0800
TZNAME:AWST
DTSTART:20240101T000000
END:STANDARD
END:VTIMEZONE
BEGIN:VEVENT
DTSTART;TZID=Australia/Perth:20250509T110000
DTEND;TZID=Australia/Perth:20250509T120000
DTSTAMP:20260422T183528
CREATED:20250411T063038Z
LAST-MODIFIED:20250411T063038Z
UID:3489-1746788400-1746792000@jerdacuttupschool.wa.edu.au
SUMMARY:Mother's Day Event
DESCRIPTION:
URL:https://jerdacuttupschool.wa.edu.au/calendar/mothers-day-event/
CATEGORIES:School Events
END:VEVENT
END:VCALENDAR