BEGIN:VCALENDAR
VERSION:2.0
PRODID:-//Jerdacuttup Primary School - ECPv6.15.18//NONSGML v1.0//EN
CALSCALE:GREGORIAN
METHOD:PUBLISH
X-WR-CALNAME:Jerdacuttup Primary School
X-ORIGINAL-URL:https://jerdacuttupschool.wa.edu.au
X-WR-CALDESC:Events for Jerdacuttup Primary School
REFRESH-INTERVAL;VALUE=DURATION:PT1H
X-Robots-Tag:noindex
X-PUBLISHED-TTL:PT1H
BEGIN:VTIMEZONE
TZID:Australia/Perth
BEGIN:STANDARD
TZOFFSETFROM:+0800
TZOFFSETTO:+0800
TZNAME:AWST
DTSTART:20230101T000000
END:STANDARD
END:VTIMEZONE
BEGIN:VEVENT
DTSTART;VALUE=DATE:20240921
DTEND;VALUE=DATE:20241008
DTSTAMP:20260423T051405
CREATED:20240920T073713Z
LAST-MODIFIED:20240920T073713Z
UID:3343-1726876800-1728345599@jerdacuttupschool.wa.edu.au
SUMMARY:Term three break
DESCRIPTION:
URL:https://jerdacuttupschool.wa.edu.au/calendar/term-three-break/
CATEGORIES:Term Break
END:VEVENT
BEGIN:VEVENT
DTSTART;VALUE=DATE:20241007
DTEND;VALUE=DATE:20241008
DTSTAMP:20260423T051405
CREATED:20240920T070643Z
LAST-MODIFIED:20240920T070643Z
UID:3304-1728259200-1728345599@jerdacuttupschool.wa.edu.au
SUMMARY:Development Day - Students do not attend school today
DESCRIPTION:
URL:https://jerdacuttupschool.wa.edu.au/calendar/development-day-students-do-not-attend-school-today/
CATEGORIES:Staff Development Days
END:VEVENT
END:VCALENDAR