BEGIN:VCALENDAR
VERSION:2.0
PRODID:-//Jerdacuttup Primary School - ECPv6.15.18//NONSGML v1.0//EN
CALSCALE:GREGORIAN
METHOD:PUBLISH
X-ORIGINAL-URL:https://jerdacuttupschool.wa.edu.au
X-WR-CALDESC:Events for Jerdacuttup Primary School
REFRESH-INTERVAL;VALUE=DURATION:PT1H
X-Robots-Tag:noindex
X-PUBLISHED-TTL:PT1H
BEGIN:VTIMEZONE
TZID:Australia/Perth
BEGIN:STANDARD
TZOFFSETFROM:+0800
TZOFFSETTO:+0800
TZNAME:AWST
DTSTART:20230101T000000
END:STANDARD
END:VTIMEZONE
BEGIN:VEVENT
DTSTART;VALUE=DATE:20240820
DTEND;VALUE=DATE:20240824
DTSTAMP:20260423T133818
CREATED:20240718T060336Z
LAST-MODIFIED:20240718T060336Z
UID:3271-1724112000-1724457599@jerdacuttupschool.wa.edu.au
SUMMARY:Book Week
DESCRIPTION:
URL:https://jerdacuttupschool.wa.edu.au/calendar/book-week/
CATEGORIES:School Events
END:VEVENT
END:VCALENDAR